Package: alabaster.ranges Version: 1.8.0 Command: /home/biocbuild/R/R/bin/R CMD INSTALL alabaster.ranges StartedAt: 2025-10-02 20:27:53 -0000 (Thu, 02 Oct 2025) EndedAt: 2025-10-02 20:28:09 -0000 (Thu, 02 Oct 2025) EllapsedTime: 15.7 seconds RetCode: 0 Status: OK