Package: alabaster.ranges Version: 1.8.0 Command: /home/biocbuild/R/R/bin/R CMD build --keep-empty-dirs --no-resave-data alabaster.ranges StartedAt: 2025-10-02 22:29:26 -0000 (Thu, 02 Oct 2025) EndedAt: 2025-10-02 22:29:49 -0000 (Thu, 02 Oct 2025) EllapsedTime: 23.0 seconds RetCode: 0 Status: OK PackageFile: alabaster.ranges_1.8.0.tar.gz PackageFileSize: 250.3 KiB