Package: alabaster.ranges Version: 1.8.0 Command: /Library/Frameworks/R.framework/Resources/bin/R CMD INSTALL alabaster.ranges StartedAt: 2025-10-13 16:00:04 -0400 (Mon, 13 Oct 2025) EndedAt: 2025-10-13 16:00:18 -0400 (Mon, 13 Oct 2025) EllapsedTime: 14.0 seconds RetCode: 0 Status: OK