Package: alabaster.ranges Version: 1.8.0 Command: /Library/Frameworks/R.framework/Resources/bin/R CMD build --keep-empty-dirs --no-resave-data alabaster.ranges StartedAt: 2025-10-13 18:54:37 -0400 (Mon, 13 Oct 2025) EndedAt: 2025-10-13 18:54:57 -0400 (Mon, 13 Oct 2025) EllapsedTime: 20.6 seconds RetCode: 0 Status: OK PackageFile: alabaster.ranges_1.8.0.tar.gz PackageFileSize: 225.6 KiB