Package: alabaster.matrix Version: 1.10.0 Command: /home/biocbuild/R/R/bin/R CMD build --keep-empty-dirs --no-resave-data alabaster.matrix StartedAt: 2025-11-10 23:22:46 -0000 (Mon, 10 Nov 2025) EndedAt: 2025-11-10 23:23:34 -0000 (Mon, 10 Nov 2025) EllapsedTime: 48.0 seconds RetCode: 0 Status: OK PackageFile: alabaster.matrix_1.10.0.tar.gz PackageFileSize: 298.5 KiB