Package: alabaster.matrix Version: 1.10.0 Command: /home/biocbuild/bbs-3.22-bioc/R/bin/R CMD build --keep-empty-dirs --no-resave-data --md5 alabaster.matrix StartedAt: 2025-11-11 16:14:55 -0500 (Tue, 11 Nov 2025) EndedAt: 2025-11-11 16:15:32 -0500 (Tue, 11 Nov 2025) EllapsedTime: 36.1 seconds RetCode: 0 Status: OK PackageFile: alabaster.matrix_1.10.0.tar.gz PackageFileSize: 276.3 KiB