Package: alabaster.mae Version: 1.10.0 Command: /home/biocbuild/bbs-3.22-bioc/R/bin/R CMD INSTALL alabaster.mae StartedAt: 2025-10-31 15:47:54 -0400 (Fri, 31 Oct 2025) EndedAt: 2025-10-31 15:48:27 -0400 (Fri, 31 Oct 2025) EllapsedTime: 33.4 seconds RetCode: 0 Status: OK