Package: alabaster.mae Version: 1.10.0 Command: /home/biocbuild/bbs-3.22-bioc/R/bin/R CMD build --keep-empty-dirs --no-resave-data --md5 alabaster.mae StartedAt: 2025-10-31 16:20:50 -0400 (Fri, 31 Oct 2025) EndedAt: 2025-10-31 16:21:28 -0400 (Fri, 31 Oct 2025) EllapsedTime: 38.0 seconds RetCode: 0 Status: OK PackageFile: alabaster.mae_1.10.0.tar.gz PackageFileSize: 223 KiB