Package: alabaster.files Version: 1.8.0 Command: /home/biocbuild/bbs-3.22-bioc/R/bin/R CMD INSTALL alabaster.files StartedAt: 2025-11-11 15:27:33 -0500 (Tue, 11 Nov 2025) EndedAt: 2025-11-11 15:27:47 -0500 (Tue, 11 Nov 2025) EllapsedTime: 14.4 seconds RetCode: 0 Status: OK