Package: alabaster.files Version: 1.8.0 Command: /home/biocbuild/bbs-3.22-bioc/R/bin/R CMD build --keep-empty-dirs --no-resave-data --md5 alabaster.files StartedAt: 2025-11-13 16:11:59 -0500 (Thu, 13 Nov 2025) EndedAt: 2025-11-13 16:12:19 -0500 (Thu, 13 Nov 2025) EllapsedTime: 20.0 seconds RetCode: 0 Status: OK PackageFile: alabaster.files_1.8.0.tar.gz PackageFileSize: 236.2 KiB