Package: alabaster.files Version: 1.8.0 Command: /Library/Frameworks/R.framework/Resources/bin/R CMD INSTALL alabaster.files StartedAt: 2025-11-10 15:11:05 -0500 (Mon, 10 Nov 2025) EndedAt: 2025-11-10 15:11:12 -0500 (Mon, 10 Nov 2025) EllapsedTime: 6.6 seconds RetCode: 0 Status: OK