Package: alabaster.files Version: 1.8.0 Command: /Library/Frameworks/R.framework/Resources/bin/R CMD build --keep-empty-dirs --no-resave-data alabaster.files StartedAt: 2025-11-10 15:36:28 -0500 (Mon, 10 Nov 2025) EndedAt: 2025-11-10 15:36:37 -0500 (Mon, 10 Nov 2025) EllapsedTime: 9.1 seconds RetCode: 0 Status: OK PackageFile: alabaster.files_1.8.0.tar.gz PackageFileSize: 234.1 KiB