Package: alabaster.bumpy Version: 1.10.0 Command: /home/biocbuild/R/R/bin/R CMD INSTALL alabaster.bumpy StartedAt: 2025-11-13 21:32:09 -0000 (Thu, 13 Nov 2025) EndedAt: 2025-11-13 21:32:25 -0000 (Thu, 13 Nov 2025) EllapsedTime: 16.3 seconds RetCode: 0 Status: OK