Package: alabaster.bumpy Version: 1.10.0 Command: /home/biocbuild/R/R/bin/R CMD build --keep-empty-dirs --no-resave-data alabaster.bumpy StartedAt: 2025-11-13 23:20:59 -0000 (Thu, 13 Nov 2025) EndedAt: 2025-11-13 23:21:22 -0000 (Thu, 13 Nov 2025) EllapsedTime: 23.0 seconds RetCode: 0 Status: OK PackageFile: alabaster.bumpy_1.10.0.tar.gz PackageFileSize: 260.5 KiB