Package: alabaster.bumpy Version: 1.10.0 Command: /home/biocbuild/bbs-3.22-bioc/R/bin/R CMD INSTALL alabaster.bumpy StartedAt: 2025-11-11 15:28:54 -0500 (Tue, 11 Nov 2025) EndedAt: 2025-11-11 15:29:07 -0500 (Tue, 11 Nov 2025) EllapsedTime: 12.2 seconds RetCode: 0 Status: OK