Package: alabaster.bumpy Version: 1.10.0 Command: /home/biocbuild/bbs-3.22-bioc/R/bin/R CMD check --install=check:alabaster.bumpy.install-out.txt --library=/home/biocbuild/bbs-3.22-bioc/R/site-library --timings alabaster.bumpy_1.10.0.tar.gz StartedAt: 2025-11-11 21:06:01 -0500 (Tue, 11 Nov 2025) EndedAt: 2025-11-11 21:07:31 -0500 (Tue, 11 Nov 2025) EllapsedTime: 90.1 seconds RetCode: 0 Status: OK CheckDir: alabaster.bumpy.Rcheck Warnings: 0