Package: alabaster.bumpy Version: 1.10.0 Command: /home/biocbuild/bbs-3.22-bioc/R/bin/R CMD build --keep-empty-dirs --no-resave-data --md5 alabaster.bumpy StartedAt: 2025-11-11 16:14:17 -0500 (Tue, 11 Nov 2025) EndedAt: 2025-11-11 16:14:35 -0500 (Tue, 11 Nov 2025) EllapsedTime: 18.0 seconds RetCode: 0 Status: OK PackageFile: alabaster.bumpy_1.10.0.tar.gz PackageFileSize: 236.2 KiB