Package: alabaster.bumpy Version: 1.8.1 Command: /Library/Frameworks/R.framework/Resources/bin/R CMD INSTALL alabaster.bumpy StartedAt: 2025-10-09 15:42:20 -0400 (Thu, 09 Oct 2025) EndedAt: 2025-10-09 15:42:47 -0400 (Thu, 09 Oct 2025) EllapsedTime: 27.5 seconds RetCode: 0 Status: OK