Package: alabaster.bumpy Version: 1.8.1 Command: /Library/Frameworks/R.framework/Resources/bin/R CMD build --keep-empty-dirs --no-resave-data alabaster.bumpy StartedAt: 2025-10-09 16:58:38 -0400 (Thu, 09 Oct 2025) EndedAt: 2025-10-09 16:59:19 -0400 (Thu, 09 Oct 2025) EllapsedTime: 41.6 seconds RetCode: 0 Status: OK PackageFile: alabaster.bumpy_1.8.1.tar.gz PackageFileSize: 235.4 KiB