Package: alabaster.base Version: 1.10.0 Command: /home/biocbuild/R/R/bin/R CMD INSTALL alabaster.base StartedAt: 2025-11-13 21:19:53 -0000 (Thu, 13 Nov 2025) EndedAt: 2025-11-13 21:22:06 -0000 (Thu, 13 Nov 2025) EllapsedTime: 133.0 seconds RetCode: 0 Status: OK