Package: alabaster.base Version: 1.10.0 Command: /home/biocbuild/R/R/bin/R CMD build --keep-empty-dirs --no-resave-data alabaster.base StartedAt: 2025-11-10 23:22:19 -0000 (Mon, 10 Nov 2025) EndedAt: 2025-11-10 23:24:29 -0000 (Mon, 10 Nov 2025) EllapsedTime: 130.1 seconds RetCode: 0 Status: OK PackageFile: alabaster.base_1.10.0.tar.gz PackageFileSize: 355.2 KiB