Package: alabaster.base Version: 1.8.1 Command: /home/biocbuild/bbs-3.21-bioc/R/bin/R CMD INSTALL alabaster.base StartedAt: 2025-09-28 15:28:36 -0400 (Sun, 28 Sep 2025) EndedAt: 2025-09-28 15:30:04 -0400 (Sun, 28 Sep 2025) EllapsedTime: 88.7 seconds RetCode: 0 Status: OK