Package: alabaster.base Version: 1.8.1 Command: /Library/Frameworks/R.framework/Resources/bin/R CMD INSTALL alabaster.base StartedAt: 2025-10-13 15:24:35 -0400 (Mon, 13 Oct 2025) EndedAt: 2025-10-13 15:27:21 -0400 (Mon, 13 Oct 2025) EllapsedTime: 165.9 seconds RetCode: 0 Status: OK