Package: alabaster.base Version: 1.8.1 Command: /Library/Frameworks/R.framework/Resources/bin/R CMD build --keep-empty-dirs --no-resave-data alabaster.base StartedAt: 2025-10-13 17:00:07 -0400 (Mon, 13 Oct 2025) EndedAt: 2025-10-13 17:03:25 -0400 (Mon, 13 Oct 2025) EllapsedTime: 197.9 seconds RetCode: 0 Status: OK PackageFile: alabaster.base_1.8.1.tar.gz PackageFileSize: 330.1 KiB