Package: alabaster.base Version: 1.8.0 Command: rm -rf alabaster.base.buildbin-libdir && mkdir alabaster.base.buildbin-libdir && /Users/biocbuild/BBS/utils/build-universal.sh alabaster.base_1.8.0.tar.gz /Library/Frameworks/R.framework/Resources/bin/R alabaster.base.buildbin-libdir StartedAt: 2025-04-22 00:32:45 -0400 (Tue, 22 Apr 2025) EndedAt: 2025-04-22 00:34:41 -0400 (Tue, 22 Apr 2025) EllapsedTime: 116.5 seconds RetCode: 0 Status: OK PackageFile: alabaster.base_1.8.0.tgz PackageFileSize: 2.485 MiB