Package: alabaster.base Version: 1.8.1 Command: /Library/Frameworks/R.framework/Resources/bin/R CMD INSTALL alabaster.base StartedAt: 2025-09-25 15:53:34 -0400 (Thu, 25 Sep 2025) EndedAt: 2025-09-25 15:55:00 -0400 (Thu, 25 Sep 2025) EllapsedTime: 85.5 seconds RetCode: 0 Status: OK