Package: alabaster.base Version: 1.8.1 Command: /Library/Frameworks/R.framework/Resources/bin/R CMD build --keep-empty-dirs --no-resave-data alabaster.base StartedAt: 2025-09-25 18:54:55 -0400 (Thu, 25 Sep 2025) EndedAt: 2025-09-25 18:56:32 -0400 (Thu, 25 Sep 2025) EllapsedTime: 97.4 seconds RetCode: 0 Status: OK PackageFile: alabaster.base_1.8.1.tar.gz PackageFileSize: 330.1 KiB