Package: airpart Version: 1.18.0 Command: /home/biocbuild/bbs-3.22-bioc/R/bin/R CMD INSTALL airpart StartedAt: 2025-11-25 16:24:18 -0500 (Tue, 25 Nov 2025) EndedAt: 2025-11-25 16:24:52 -0500 (Tue, 25 Nov 2025) EllapsedTime: 33.9 seconds RetCode: 0 Status: OK