Package: airpart Version: 1.18.0 Command: /home/biocbuild/bbs-3.22-bioc/R/bin/R CMD build --keep-empty-dirs --no-resave-data --md5 airpart StartedAt: 2025-11-25 16:37:49 -0500 (Tue, 25 Nov 2025) EndedAt: 2025-11-25 16:39:07 -0500 (Tue, 25 Nov 2025) EllapsedTime: 78.1 seconds RetCode: 0 Status: OK PackageFile: airpart_1.18.0.tar.gz PackageFileSize: 1.309 MiB