Package: agilp Version: 3.40.0 Command: /home/biocbuild/bbs-3.21-bioc/R/bin/R CMD build --keep-empty-dirs --no-resave-data agilp StartedAt: 2025-10-08 16:08:30 -0400 (Wed, 08 Oct 2025) EndedAt: 2025-10-08 16:08:35 -0400 (Wed, 08 Oct 2025) EllapsedTime: 5.0 seconds RetCode: 0 Status: OK PackageFile: agilp_3.40.0.tar.gz PackageFileSize: 452.9 KiB