Package: agilp Version: 3.40.0 Command: /Library/Frameworks/R.framework/Resources/bin/R CMD INSTALL agilp StartedAt: 2025-10-09 15:04:57 -0400 (Thu, 09 Oct 2025) EndedAt: 2025-10-09 15:04:59 -0400 (Thu, 09 Oct 2025) EllapsedTime: 2.4 seconds RetCode: 0 Status: OK