Package: aggregateBioVar Version: 1.20.0 Command: /home/biocbuild/R/R/bin/R CMD INSTALL aggregateBioVar StartedAt: 2025-11-10 21:26:35 -0000 (Mon, 10 Nov 2025) EndedAt: 2025-11-10 21:27:04 -0000 (Mon, 10 Nov 2025) EllapsedTime: 29.5 seconds RetCode: 0 Status: OK