Package: aggregateBioVar Version: 1.20.0 Command: /home/biocbuild/R/R/bin/R CMD build --keep-empty-dirs --no-resave-data aggregateBioVar StartedAt: 2025-11-10 23:21:43 -0000 (Mon, 10 Nov 2025) EndedAt: 2025-11-10 23:23:21 -0000 (Mon, 10 Nov 2025) EllapsedTime: 98.0 seconds RetCode: 0 Status: OK PackageFile: aggregateBioVar_1.20.0.tar.gz PackageFileSize: 1.05 MiB