Package: aggregateBioVar Version: 1.18.0 Command: rm -rf aggregateBioVar.buildbin-libdir && mkdir aggregateBioVar.buildbin-libdir && E:\biocbuild\bbs-3.21-bioc\R\bin\R.exe CMD INSTALL --build --library=aggregateBioVar.buildbin-libdir aggregateBioVar_1.18.0.tar.gz StartedAt: 2025-08-15 08:43:45 -0400 (Fri, 15 Aug 2025) EndedAt: 2025-08-15 08:44:19 -0400 (Fri, 15 Aug 2025) EllapsedTime: 33.8 seconds RetCode: 0 Status: OK PackageFile: aggregateBioVar_1.18.0.zip PackageFileSize: 1.461 MiB