Package: aggregateBioVar Version: 1.20.0 Command: /home/biocbuild/bbs-3.22-bioc/R/bin/R CMD check --install=check:aggregateBioVar.install-out.txt --library=/home/biocbuild/bbs-3.22-bioc/R/site-library --timings aggregateBioVar_1.20.0.tar.gz StartedAt: 2025-11-11 21:04:58 -0500 (Tue, 11 Nov 2025) EndedAt: 2025-11-11 21:08:44 -0500 (Tue, 11 Nov 2025) EllapsedTime: 226.3 seconds RetCode: 0 Status: OK CheckDir: aggregateBioVar.Rcheck Warnings: 0