Package: aggregateBioVar Version: 1.18.0 Command: /home/biocbuild/R/R/bin/R CMD INSTALL aggregateBioVar StartedAt: 2025-09-25 20:33:18 -0000 (Thu, 25 Sep 2025) EndedAt: 2025-09-25 20:33:52 -0000 (Thu, 25 Sep 2025) EllapsedTime: 33.5 seconds RetCode: 0 Status: OK