Package: aggregateBioVar Version: 1.18.0 Command: /Library/Frameworks/R.framework/Resources/bin/R CMD INSTALL aggregateBioVar StartedAt: 2025-09-25 16:10:56 -0400 (Thu, 25 Sep 2025) EndedAt: 2025-09-25 16:11:24 -0400 (Thu, 25 Sep 2025) EllapsedTime: 28.0 seconds RetCode: 0 Status: OK