Package: affylmGUI Version: 1.84.0 Command: /home/biocbuild/bbs-3.22-bioc/R/bin/R CMD build --keep-empty-dirs --no-resave-data --md5 affylmGUI StartedAt: 2025-11-11 16:13:35 -0500 (Tue, 11 Nov 2025) EndedAt: 2025-11-11 16:14:00 -0500 (Tue, 11 Nov 2025) EllapsedTime: 25.0 seconds RetCode: 0 Status: OK PackageFile: affylmGUI_1.84.0.tar.gz PackageFileSize: 1.763 MiB