Package: affylmGUI Version: 1.84.0 Command: /Library/Frameworks/R.framework/Resources/bin/R CMD INSTALL affylmGUI StartedAt: 2025-11-03 15:23:51 -0500 (Mon, 03 Nov 2025) EndedAt: 2025-11-03 15:24:25 -0500 (Mon, 03 Nov 2025) EllapsedTime: 33.8 seconds RetCode: 0 Status: OK