Package: affylmGUI Version: 1.84.0 Command: rm -rf affylmGUI.buildbin-libdir && mkdir affylmGUI.buildbin-libdir && /Users/biocbuild/BBS/utils/build-universal.sh affylmGUI_1.84.0.tar.gz /Library/Frameworks/R.framework/Resources/bin/R affylmGUI.buildbin-libdir StartedAt: 2025-11-04 01:26:53 -0500 (Tue, 04 Nov 2025) EndedAt: 2025-11-04 01:27:35 -0500 (Tue, 04 Nov 2025) EllapsedTime: 41.6 seconds RetCode: 0 Status: OK PackageFile: affylmGUI_1.84.0.tgz PackageFileSize: 2.142 MiB