Package: affylmGUI Version: 1.82.0 Command: /home/biocbuild/R/R/bin/R CMD INSTALL affylmGUI StartedAt: 2025-10-09 20:39:50 -0000 (Thu, 09 Oct 2025) EndedAt: 2025-10-09 20:40:19 -0000 (Thu, 09 Oct 2025) EllapsedTime: 28.5 seconds RetCode: 0 Status: OK