Package: affylmGUI Version: 1.82.0 Command: /home/biocbuild/R/R/bin/R CMD build --keep-empty-dirs --no-resave-data affylmGUI StartedAt: 2025-10-09 22:29:44 -0000 (Thu, 09 Oct 2025) EndedAt: 2025-10-09 22:30:16 -0000 (Thu, 09 Oct 2025) EllapsedTime: 32.0 seconds RetCode: 0 Status: OK PackageFile: affylmGUI_1.82.0.tar.gz PackageFileSize: 1.753 MiB