Package: affycoretools Version: 1.82.0 Command: /home/biocbuild/bbs-3.22-bioc/R/bin/R CMD build --keep-empty-dirs --no-resave-data --md5 affycoretools StartedAt: 2025-11-11 16:13:30 -0500 (Tue, 11 Nov 2025) EndedAt: 2025-11-11 16:15:09 -0500 (Tue, 11 Nov 2025) EllapsedTime: 98.2 seconds RetCode: 0 Status: OK PackageFile: affycoretools_1.82.0.tar.gz PackageFileSize: 6.607 MiB