Package: affycoretools Version: 1.82.0 Command: /Library/Frameworks/R.framework/Resources/bin/R CMD INSTALL affycoretools StartedAt: 2025-11-03 15:49:23 -0500 (Mon, 03 Nov 2025) EndedAt: 2025-11-03 15:50:44 -0500 (Mon, 03 Nov 2025) EllapsedTime: 81.4 seconds RetCode: 0 Status: OK