Package: affycoretools Version: 1.82.0 Command: /Library/Frameworks/R.framework/Resources/bin/R CMD build --keep-empty-dirs --no-resave-data affycoretools StartedAt: 2025-11-03 16:01:25 -0500 (Mon, 03 Nov 2025) EndedAt: 2025-11-03 16:03:19 -0500 (Mon, 03 Nov 2025) EllapsedTime: 114.4 seconds RetCode: 0 Status: OK PackageFile: affycoretools_1.82.0.tar.gz PackageFileSize: 6.594 MiB