Package: affycoretools Version: 1.82.0 Command: rm -rf affycoretools.buildbin-libdir && mkdir affycoretools.buildbin-libdir && /Users/biocbuild/BBS/utils/build-universal.sh affycoretools_1.82.0.tar.gz /Library/Frameworks/R.framework/Resources/bin/R affycoretools.buildbin-libdir StartedAt: 2025-11-04 01:26:53 -0500 (Tue, 04 Nov 2025) EndedAt: 2025-11-04 01:28:22 -0500 (Tue, 04 Nov 2025) EllapsedTime: 89.3 seconds RetCode: 0 Status: OK PackageFile: affycoretools_1.82.0.tgz PackageFileSize: 574.7 KiB