Package: affycoretools Version: 1.80.0 Command: /home/biocbuild/R/R/bin/R CMD INSTALL affycoretools StartedAt: 2025-10-13 21:05:42 -0000 (Mon, 13 Oct 2025) EndedAt: 2025-10-13 21:07:07 -0000 (Mon, 13 Oct 2025) EllapsedTime: 85.9 seconds RetCode: 0 Status: OK