Package: affycoretools Version: 1.80.0 Command: /Library/Frameworks/R.framework/Resources/bin/R CMD build --keep-empty-dirs --no-resave-data affycoretools StartedAt: 2025-04-21 15:35:55 -0400 (Mon, 21 Apr 2025) EndedAt: 2025-04-21 15:36:35 -0400 (Mon, 21 Apr 2025) EllapsedTime: 40.5 seconds RetCode: 0 Status: OK PackageFile: affycoretools_1.80.0.tar.gz PackageFileSize: 6.594 MiB