Package: affycomp Version: 1.86.0 Command: /home/biocbuild/bbs-3.22-bioc/R/bin/R CMD INSTALL affycomp StartedAt: 2025-11-02 15:19:09 -0500 (Sun, 02 Nov 2025) EndedAt: 2025-11-02 15:19:14 -0500 (Sun, 02 Nov 2025) EllapsedTime: 4.6 seconds RetCode: 0 Status: OK