Package: affycomp Version: 1.86.0 Command: /home/biocbuild/bbs-3.22-bioc/R/bin/R CMD build --keep-empty-dirs --no-resave-data --md5 affycomp StartedAt: 2025-11-02 16:24:39 -0500 (Sun, 02 Nov 2025) EndedAt: 2025-11-02 16:24:50 -0500 (Sun, 02 Nov 2025) EllapsedTime: 11.0 seconds RetCode: 0 Status: OK PackageFile: affycomp_1.86.0.tar.gz PackageFileSize: 7.981 MiB